BEGIN:VCALENDAR
VERSION:2.0
PRODID:-//IMMA - ECPv6.6.0.2//NONSGML v1.0//EN
CALSCALE:GREGORIAN
METHOD:PUBLISH
X-ORIGINAL-URL:https://www.immamotorcycles.org
X-WR-CALDESC:Events for IMMA
REFRESH-INTERVAL;VALUE=DURATION:PT1H
X-Robots-Tag:noindex
X-PUBLISHED-TTL:PT1H
BEGIN:VTIMEZONE
TZID:UTC
BEGIN:STANDARD
TZOFFSETFROM:+0000
TZOFFSETTO:+0000
TZNAME:UTC
DTSTART:20170101T000000
END:STANDARD
END:VTIMEZONE
BEGIN:VEVENT
DTSTART;VALUE=DATE:20170403
DTEND;VALUE=DATE:20170408
DTSTAMP:20260423T101905
CREATED:20170402T095721Z
LAST-MODIFIED:20220419T132102Z
UID:1119-1491177600-1491609599@www.immamotorcycles.org
SUMMARY:Spring Congress 2017
DESCRIPTION:
URL:https://www.immamotorcycles.org/event/spring-congress-2017/
LOCATION:Berlin\, Germany
CATEGORIES:Congress
ATTACH;FMTTYPE=image/jpeg:https://www.immamotorcycles.org/wp-content/uploads/2022/04/unnamed-5.jpg
END:VEVENT
END:VCALENDAR